Package: myvariant Version: 1.36.0 Command: /Library/Frameworks/R.framework/Resources/bin/R CMD INSTALL myvariant StartedAt: 2025-01-27 16:42:37 -0500 (Mon, 27 Jan 2025) EndedAt: 2025-01-27 16:43:26 -0500 (Mon, 27 Jan 2025) EllapsedTime: 48.2 seconds RetCode: 0 Status: OK