Package: myvariant Version: 1.36.0 Command: rm -rf myvariant.buildbin-libdir && mkdir myvariant.buildbin-libdir && /Users/biocbuild/BBS/utils/build-universal.sh myvariant_1.36.0.tar.gz /Library/Frameworks/R.framework/Resources/bin/R myvariant.buildbin-libdir StartedAt: 2025-01-29 15:41:54 -0500 (Wed, 29 Jan 2025) EndedAt: 2025-01-29 15:42:47 -0500 (Wed, 29 Jan 2025) EllapsedTime: 53.2 seconds RetCode: 0 Status: OK PackageFile: myvariant_1.36.0.tgz PackageFileSize: 217 KiB