Package: mygene Version: 1.42.0 Command: /home/biocbuild/R/R/bin/R CMD build --keep-empty-dirs --no-resave-data mygene StartedAt: 2025-02-04 01:19:53 -0000 (Tue, 04 Feb 2025) EndedAt: 2025-02-04 01:21:05 -0000 (Tue, 04 Feb 2025) EllapsedTime: 72.0 seconds RetCode: 0 Status: OK PackageFile: mygene_1.42.0.tar.gz PackageFileSize: 160.7 KiB