Package: mygene Version: 1.42.0 Command: /home/biocbuild/bbs-3.20-bioc/R/bin/R CMD INSTALL mygene StartedAt: 2025-03-31 15:36:06 -0400 (Mon, 31 Mar 2025) EndedAt: 2025-03-31 15:36:42 -0400 (Mon, 31 Mar 2025) EllapsedTime: 36.5 seconds RetCode: 0 Status: OK