Package: mygene Version: 1.42.0 Command: rm -rf mygene.buildbin-libdir && mkdir mygene.buildbin-libdir && /Users/biocbuild/BBS/utils/build-universal.sh mygene_1.42.0.tar.gz /Library/Frameworks/R.framework/Resources/bin/R mygene.buildbin-libdir StartedAt: 2025-04-01 12:20:45 -0400 (Tue, 01 Apr 2025) EndedAt: 2025-04-01 12:22:12 -0400 (Tue, 01 Apr 2025) EllapsedTime: 86.6 seconds RetCode: 0 Status: OK PackageFile: mygene_1.42.0.tgz PackageFileSize: 222.1 KiB