Package: mygene Version: 1.42.0 Command: /Library/Frameworks/R.framework/Resources/bin/R CMD INSTALL mygene StartedAt: 2025-01-27 16:42:49 -0500 (Mon, 27 Jan 2025) EndedAt: 2025-01-27 16:43:36 -0500 (Mon, 27 Jan 2025) EllapsedTime: 47.2 seconds RetCode: 0 Status: OK