Package: mygene Version: 1.42.0 Command: /Library/Frameworks/R.framework/Resources/bin/R CMD check --install=check:mygene.install-out.txt --library=/Library/Frameworks/R.framework/Resources/library --no-vignettes --timings mygene_1.42.0.tar.gz StartedAt: 2025-04-02 02:30:00 -0400 (Wed, 02 Apr 2025) EndedAt: 2025-04-02 02:34:43 -0400 (Wed, 02 Apr 2025) EllapsedTime: 283.0 seconds RetCode: 0 Status: OK CheckDir: mygene.Rcheck Warnings: 0