Package: mygene Version: 1.42.0 Command: /Library/Frameworks/R.framework/Resources/bin/R CMD build --keep-empty-dirs --no-resave-data mygene StartedAt: 2025-01-28 04:20:16 -0500 (Tue, 28 Jan 2025) EndedAt: 2025-01-28 04:21:33 -0500 (Tue, 28 Jan 2025) EllapsedTime: 77.6 seconds RetCode: 0 Status: OK PackageFile: mygene_1.42.0.tar.gz PackageFileSize: 165.7 KiB