Package: mygene Version: 1.42.0 Command: rm -rf mygene.buildbin-libdir && mkdir mygene.buildbin-libdir && /Users/biocbuild/BBS/utils/build-universal.sh mygene_1.42.0.tar.gz /Library/Frameworks/R.framework/Resources/bin/R mygene.buildbin-libdir StartedAt: 2025-04-02 15:24:48 -0400 (Wed, 02 Apr 2025) EndedAt: 2025-04-02 15:25:39 -0400 (Wed, 02 Apr 2025) EllapsedTime: 51.2 seconds RetCode: 0 Status: OK PackageFile: mygene_1.42.0.tgz PackageFileSize: 222.6 KiB