Package: musicatk Version: 2.0.0 Command: /home/biocbuild/bbs-3.20-bioc/R/bin/R CMD check --install=check:musicatk.install-out.txt --library=/home/biocbuild/bbs-3.20-bioc/R/site-library --timings musicatk_2.0.0.tar.gz StartedAt: 2025-02-11 00:26:15 -0500 (Tue, 11 Feb 2025) EndedAt: 2025-02-11 00:43:42 -0500 (Tue, 11 Feb 2025) EllapsedTime: 1047.1 seconds RetCode: 0 Status: OK CheckDir: musicatk.Rcheck Warnings: 0