Package: musicatk Version: 2.0.0 Command: /Library/Frameworks/R.framework/Resources/bin/R CMD INSTALL musicatk StartedAt: 2025-02-03 18:19:36 -0500 (Mon, 03 Feb 2025) EndedAt: 2025-02-03 18:20:31 -0500 (Mon, 03 Feb 2025) EllapsedTime: 54.3 seconds RetCode: 0 Status: OK