Package: muscle Version: 3.48.0 Command: /home/biocbuild/bbs-3.20-bioc/R/bin/R CMD check --install=check:muscle.install-out.txt --library=/home/biocbuild/bbs-3.20-bioc/R/site-library --timings muscle_3.48.0.tar.gz StartedAt: 2025-01-28 01:19:49 -0500 (Tue, 28 Jan 2025) EndedAt: 2025-01-28 01:21:00 -0500 (Tue, 28 Jan 2025) EllapsedTime: 71.1 seconds RetCode: 0 Status: WARNINGS CheckDir: muscle.Rcheck Warnings: 2