Package: muscle Version: 3.48.0 Command: /home/biocbuild/bbs-3.20-bioc/R/bin/R CMD build --keep-empty-dirs --no-resave-data --md5 muscle StartedAt: 2025-03-31 18:14:43 -0400 (Mon, 31 Mar 2025) EndedAt: 2025-03-31 18:15:38 -0400 (Mon, 31 Mar 2025) EllapsedTime: 55.0 seconds RetCode: 0 Status: OK PackageFile: muscle_3.48.0.tar.gz PackageFileSize: 495.1 KiB