Package: muscle Version: 3.48.0 Command: /Library/Frameworks/R.framework/Resources/bin/R CMD INSTALL muscle StartedAt: 2025-03-31 15:25:57 -0400 (Mon, 31 Mar 2025) EndedAt: 2025-03-31 15:26:45 -0400 (Mon, 31 Mar 2025) EllapsedTime: 48.7 seconds RetCode: 0 Status: OK