Package: muscle Version: 3.48.0 Command: /Library/Frameworks/R.framework/Resources/bin/R CMD check --install=check:muscle.install-out.txt --library=/Library/Frameworks/R.framework/Resources/library --no-vignettes --timings muscle_3.48.0.tar.gz StartedAt: 2025-04-02 02:28:01 -0400 (Wed, 02 Apr 2025) EndedAt: 2025-04-02 02:29:19 -0400 (Wed, 02 Apr 2025) EllapsedTime: 78.3 seconds RetCode: 0 Status: WARNINGS CheckDir: muscle.Rcheck Warnings: 2