Package: muscat Version: 1.20.0 Command: chmod a+r muscat -R && F:\biocbuild\bbs-3.20-bioc\R\bin\R.exe CMD build --keep-empty-dirs --no-resave-data muscat StartedAt: 2025-01-27 20:32:22 -0500 (Mon, 27 Jan 2025) EndedAt: 2025-01-27 20:41:46 -0500 (Mon, 27 Jan 2025) EllapsedTime: 564.0 seconds RetCode: 0 Status: OK PackageFile: muscat_1.20.0.tar.gz PackageFileSize: 4.264 MiB