Package: muscat Version: 1.20.0 Command: /Library/Frameworks/R.framework/Resources/bin/R CMD build --keep-empty-dirs --no-resave-data muscat StartedAt: 2025-04-01 04:03:33 -0400 (Tue, 01 Apr 2025) EndedAt: 2025-04-01 04:09:39 -0400 (Tue, 01 Apr 2025) EllapsedTime: 366.6 seconds RetCode: 0 Status: OK PackageFile: muscat_1.20.0.tar.gz PackageFileSize: 6.827 MiB