Package: mumosa Version: 1.14.0 Command: chmod a+r mumosa -R && F:\biocbuild\bbs-3.20-bioc\R\bin\R.exe CMD build --keep-empty-dirs --no-resave-data mumosa StartedAt: 2025-01-27 20:31:52 -0500 (Mon, 27 Jan 2025) EndedAt: 2025-01-27 20:35:12 -0500 (Mon, 27 Jan 2025) EllapsedTime: 200.0 seconds RetCode: 0 Status: OK PackageFile: mumosa_1.14.0.tar.gz PackageFileSize: 420.6 KiB