Package: mumosa Version: 1.14.0 Command: /Library/Frameworks/R.framework/Resources/bin/R CMD build --keep-empty-dirs --no-resave-data mumosa StartedAt: 2025-02-03 20:45:57 -0500 (Mon, 03 Feb 2025) EndedAt: 2025-02-03 20:49:21 -0500 (Mon, 03 Feb 2025) EllapsedTime: 204.2 seconds RetCode: 0 Status: OK PackageFile: mumosa_1.14.0.tar.gz PackageFileSize: 661.2 KiB