Package: mumosa Version: 1.14.0 Command: /Library/Frameworks/R.framework/Resources/bin/R CMD INSTALL mumosa StartedAt: 2025-01-27 17:55:15 -0500 (Mon, 27 Jan 2025) EndedAt: 2025-01-27 17:55:49 -0500 (Mon, 27 Jan 2025) EllapsedTime: 33.8 seconds RetCode: 0 Status: OK