Package: mumosa Version: 1.14.0 Command: rm -rf mumosa.buildbin-libdir && mkdir mumosa.buildbin-libdir && /Users/biocbuild/BBS/utils/build-universal.sh mumosa_1.14.0.tar.gz /Library/Frameworks/R.framework/Resources/bin/R mumosa.buildbin-libdir StartedAt: 2025-01-29 15:40:57 -0500 (Wed, 29 Jan 2025) EndedAt: 2025-01-29 15:41:34 -0500 (Wed, 29 Jan 2025) EllapsedTime: 36.5 seconds RetCode: 0 Status: OK PackageFile: mumosa_1.14.0.tgz PackageFileSize: 744.4 KiB