Package: multtest Version: 2.62.0 Command: chmod a+r multtest -R && F:\biocbuild\bbs-3.20-bioc\R\bin\R.exe CMD build --keep-empty-dirs --no-resave-data multtest StartedAt: 2025-03-31 20:30:19 -0400 (Mon, 31 Mar 2025) EndedAt: 2025-03-31 20:30:23 -0400 (Mon, 31 Mar 2025) EllapsedTime: 4.3 seconds RetCode: 0 Status: OK PackageFile: multtest_2.62.0.tar.gz PackageFileSize: 1.234 MiB