Package: multistateQTL Version: 1.2.2 Command: /home/biocbuild/R/R/bin/R CMD INSTALL multistateQTL StartedAt: 2025-03-31 21:10:45 -0000 (Mon, 31 Mar 2025) EndedAt: 2025-03-31 21:11:17 -0000 (Mon, 31 Mar 2025) EllapsedTime: 32.2 seconds RetCode: 0 Status: OK