Package: multiscan Version: 1.66.0 Command: /Library/Frameworks/R.framework/Resources/bin/R CMD INSTALL multiscan StartedAt: 2025-01-27 15:04:43 -0500 (Mon, 27 Jan 2025) EndedAt: 2025-01-27 15:04:47 -0500 (Mon, 27 Jan 2025) EllapsedTime: 4.9 seconds RetCode: 0 Status: OK