Package: multiscan Version: 1.66.0 Command: rm -rf multiscan.buildbin-libdir && mkdir multiscan.buildbin-libdir && /Users/biocbuild/BBS/utils/build-universal.sh multiscan_1.66.0.tar.gz /Library/Frameworks/R.framework/Resources/bin/R multiscan.buildbin-libdir StartedAt: 2025-04-02 15:23:29 -0400 (Wed, 02 Apr 2025) EndedAt: 2025-04-02 15:23:34 -0400 (Wed, 02 Apr 2025) EllapsedTime: 5.7 seconds RetCode: 0 Status: OK PackageFile: multiscan_1.66.0.tgz PackageFileSize: 778.5 KiB