Package: multicrispr Version: 1.16.1 Command: /home/biocbuild/bbs-3.20-bioc/R/bin/R CMD INSTALL multicrispr StartedAt: 2025-03-31 15:37:42 -0400 (Mon, 31 Mar 2025) EndedAt: 2025-03-31 15:38:15 -0400 (Mon, 31 Mar 2025) EllapsedTime: 33.2 seconds RetCode: 0 Status: OK