Package: multiWGCNA Version: 1.4.0 Command: /home/biocbuild/bbs-3.20-bioc/R/bin/R CMD INSTALL multiWGCNA StartedAt: 2024-11-19 16:43:59 -0500 (Tue, 19 Nov 2024) EndedAt: 2024-11-19 16:44:27 -0500 (Tue, 19 Nov 2024) EllapsedTime: 28.0 seconds RetCode: 0 Status: OK