Package: multiWGCNA Version: 1.4.0 Command: /home/biocbuild/R/R/bin/R CMD INSTALL multiWGCNA StartedAt: 2025-02-03 21:07:06 -0000 (Mon, 03 Feb 2025) EndedAt: 2025-02-03 21:07:45 -0000 (Mon, 03 Feb 2025) EllapsedTime: 39.2 seconds RetCode: 0 Status: OK