Package: multiWGCNA Version: 1.4.0 Command: /home/biocbuild/R/R/bin/R CMD check --install=check:multiWGCNA.install-out.txt --library=/home/biocbuild/R/R/site-library --no-vignettes --timings multiWGCNA_1.4.0.tar.gz StartedAt: 2025-01-28 09:22:47 -0000 (Tue, 28 Jan 2025) EndedAt: 2025-01-28 09:34:52 -0000 (Tue, 28 Jan 2025) EllapsedTime: 725.1 seconds RetCode: 0 Status: OK CheckDir: multiWGCNA.Rcheck Warnings: 0