Package: multiWGCNA Version: 1.4.0 Command: F:\biocbuild\bbs-3.20-bioc\R\bin\R.exe CMD check --no-multiarch --install=check:multiWGCNA.install-out.txt --library=F:\biocbuild\bbs-3.20-bioc\R\library --no-vignettes --timings multiWGCNA_1.4.0.tar.gz StartedAt: 2025-04-01 03:56:52 -0400 (Tue, 01 Apr 2025) EndedAt: 2025-04-01 04:08:58 -0400 (Tue, 01 Apr 2025) EllapsedTime: 726.2 seconds RetCode: 0 Status: OK CheckDir: multiWGCNA.Rcheck Warnings: 0