Package: multiWGCNA Version: 1.3.1 Command: rm -rf multiWGCNA.buildbin-libdir && mkdir multiWGCNA.buildbin-libdir && C:\Users\biocbuild\bbs-3.20-bioc\R\bin\R.exe CMD INSTALL --build --library=multiWGCNA.buildbin-libdir multiWGCNA_1.3.1.tar.gz StartedAt: 2024-07-16 06:29:29 -0400 (Tue, 16 Jul 2024) EndedAt: 2024-07-16 06:30:07 -0400 (Tue, 16 Jul 2024) EllapsedTime: 37.6 seconds RetCode: 0 Status: OK PackageFile: multiWGCNA_1.3.1.zip PackageFileSize: 2.333 MiB