Package: multiWGCNA Version: 1.4.0 Command: /home/biocbuild/bbs-3.20-bioc/R/bin/R CMD INSTALL multiWGCNA StartedAt: 2025-03-31 15:46:06 -0400 (Mon, 31 Mar 2025) EndedAt: 2025-03-31 15:46:36 -0400 (Mon, 31 Mar 2025) EllapsedTime: 30.3 seconds RetCode: 0 Status: OK