Package: multiWGCNA Version: 1.4.0 Command: /Library/Frameworks/R.framework/Resources/bin/R CMD check --install=check:multiWGCNA.install-out.txt --library=/Library/Frameworks/R.framework/Resources/library --no-vignettes --timings multiWGCNA_1.4.0.tar.gz StartedAt: 2025-04-01 06:18:13 -0400 (Tue, 01 Apr 2025) EndedAt: 2025-04-01 06:35:28 -0400 (Tue, 01 Apr 2025) EllapsedTime: 1034.9 seconds RetCode: 0 Status: OK CheckDir: multiWGCNA.Rcheck Warnings: 0