Package: multiWGCNA Version: 1.4.0 Command: /Library/Frameworks/R.framework/Resources/bin/R CMD build --keep-empty-dirs --no-resave-data multiWGCNA StartedAt: 2025-01-27 20:59:40 -0500 (Mon, 27 Jan 2025) EndedAt: 2025-01-27 21:07:30 -0500 (Mon, 27 Jan 2025) EllapsedTime: 469.9 seconds RetCode: 0 Status: OK PackageFile: multiWGCNA_1.4.0.tar.gz PackageFileSize: 3.572 MiB