Package: multiWGCNA Version: 1.4.0 Command: /Library/Frameworks/R.framework/Resources/bin/R CMD check --install=check:multiWGCNA.install-out.txt --library=/Library/Frameworks/R.framework/Resources/library --no-vignettes --timings multiWGCNA_1.4.0.tar.gz StartedAt: 2024-11-20 00:29:07 -0500 (Wed, 20 Nov 2024) EndedAt: 2024-11-20 00:40:41 -0500 (Wed, 20 Nov 2024) EllapsedTime: 693.8 seconds RetCode: 0 Status: OK CheckDir: multiWGCNA.Rcheck Warnings: 0