Package: multiWGCNA Version: 1.4.0 Command: /Library/Frameworks/R.framework/Resources/bin/R CMD check --install=check:multiWGCNA.install-out.txt --library=/Library/Frameworks/R.framework/Resources/library --no-vignettes --timings multiWGCNA_1.4.0.tar.gz StartedAt: 2025-01-29 02:30:55 -0500 (Wed, 29 Jan 2025) EndedAt: 2025-01-29 02:42:24 -0500 (Wed, 29 Jan 2025) EllapsedTime: 688.8 seconds RetCode: 0 Status: OK CheckDir: multiWGCNA.Rcheck Warnings: 0