Package: multiMiR Version: 1.28.0 Command: F:\biocbuild\bbs-3.20-bioc\R\bin\R.exe CMD INSTALL multiMiR StartedAt: 2025-02-03 16:01:57 -0500 (Mon, 03 Feb 2025) EndedAt: 2025-02-03 16:02:44 -0500 (Mon, 03 Feb 2025) EllapsedTime: 47.4 seconds RetCode: 0 Status: OK