Package: multiMiR Version: 1.28.0 Command: chmod a+r multiMiR -R && F:\biocbuild\bbs-3.20-bioc\R\bin\R.exe CMD build --keep-empty-dirs --no-resave-data multiMiR StartedAt: 2025-02-03 20:41:52 -0500 (Mon, 03 Feb 2025) EndedAt: 2025-02-03 20:43:08 -0500 (Mon, 03 Feb 2025) EllapsedTime: 76.8 seconds RetCode: 0 Status: OK PackageFile: multiMiR_1.28.0.tar.gz PackageFileSize: 333.3 KiB