Package: multiMiR Version: 1.28.0 Command: rm -rf multiMiR.buildbin-libdir && mkdir multiMiR.buildbin-libdir && F:\biocbuild\bbs-3.20-bioc\R\bin\R.exe CMD INSTALL --build --library=multiMiR.buildbin-libdir multiMiR_1.28.0.tar.gz StartedAt: 2025-02-04 09:01:43 -0500 (Tue, 04 Feb 2025) EndedAt: 2025-02-04 09:02:23 -0500 (Tue, 04 Feb 2025) EllapsedTime: 40.4 seconds RetCode: 0 Status: OK PackageFile: multiMiR_1.28.0.zip PackageFileSize: 635.7 KiB