Package: multiHiCcompare Version: 1.24.0 Command: rm -rf multiHiCcompare.buildbin-libdir && mkdir multiHiCcompare.buildbin-libdir && /Users/biocbuild/BBS/utils/build-universal.sh multiHiCcompare_1.24.0.tar.gz /Library/Frameworks/R.framework/Resources/bin/R multiHiCcompare.buildbin-libdir StartedAt: 2025-01-28 13:52:20 -0500 (Tue, 28 Jan 2025) EndedAt: 2025-01-28 13:54:14 -0500 (Tue, 28 Jan 2025) EllapsedTime: 114.1 seconds RetCode: 0 Status: OK PackageFile: multiHiCcompare_1.24.0.tgz PackageFileSize: 5.349 MiB