Package: multiHiCcompare Version: 1.24.0 Command: /Library/Frameworks/R.framework/Resources/bin/R CMD check --install=check:multiHiCcompare.install-out.txt --library=/Library/Frameworks/R.framework/Resources/library --no-vignettes --timings multiHiCcompare_1.24.0.tar.gz StartedAt: 2025-01-29 02:26:33 -0500 (Wed, 29 Jan 2025) EndedAt: 2025-01-29 02:30:55 -0500 (Wed, 29 Jan 2025) EllapsedTime: 262.0 seconds RetCode: 0 Status: OK CheckDir: multiHiCcompare.Rcheck Warnings: 0