Package: multiHiCcompare Version: 1.24.0 Command: /Library/Frameworks/R.framework/Resources/bin/R CMD build --keep-empty-dirs --no-resave-data multiHiCcompare StartedAt: 2025-01-28 04:11:16 -0500 (Tue, 28 Jan 2025) EndedAt: 2025-01-28 04:12:34 -0500 (Tue, 28 Jan 2025) EllapsedTime: 78.2 seconds RetCode: 0 Status: OK PackageFile: multiHiCcompare_1.24.0.tar.gz PackageFileSize: 4.723 MiB