Package: multiClust Version: 1.36.0 Command: F:\biocbuild\bbs-3.20-bioc\R\bin\R.exe CMD check --no-multiarch --install=check:multiClust.install-out.txt --library=F:\biocbuild\bbs-3.20-bioc\R\library --no-vignettes --timings multiClust_1.36.0.tar.gz StartedAt: 2025-02-04 04:12:51 -0500 (Tue, 04 Feb 2025) EndedAt: 2025-02-04 04:14:19 -0500 (Tue, 04 Feb 2025) EllapsedTime: 87.8 seconds RetCode: 0 Status: OK CheckDir: multiClust.Rcheck Warnings: 0