Package: multiClust Version: 1.36.0 Command: chmod a+r multiClust -R && F:\biocbuild\bbs-3.20-bioc\R\bin\R.exe CMD build --keep-empty-dirs --no-resave-data multiClust StartedAt: 2025-02-03 20:40:47 -0500 (Mon, 03 Feb 2025) EndedAt: 2025-02-03 20:41:34 -0500 (Mon, 03 Feb 2025) EllapsedTime: 47.3 seconds RetCode: 0 Status: OK PackageFile: multiClust_1.36.0.tar.gz PackageFileSize: 2.932 MiB