Package: multiClust Version: 1.36.0 Command: /home/biocbuild/bbs-3.20-bioc/R/bin/R CMD INSTALL multiClust StartedAt: 2025-01-27 16:37:25 -0500 (Mon, 27 Jan 2025) EndedAt: 2025-01-27 16:37:33 -0500 (Mon, 27 Jan 2025) EllapsedTime: 7.8 seconds RetCode: 0 Status: OK