Package: multiClust Version: 1.36.0 Command: /Library/Frameworks/R.framework/Resources/bin/R CMD INSTALL multiClust StartedAt: 2025-01-27 17:23:43 -0500 (Mon, 27 Jan 2025) EndedAt: 2025-01-27 17:23:52 -0500 (Mon, 27 Jan 2025) EllapsedTime: 9.3 seconds RetCode: 0 Status: OK