Package: multiClust Version: 1.36.0 Command: rm -rf multiClust.buildbin-libdir && mkdir multiClust.buildbin-libdir && /Users/biocbuild/BBS/utils/build-universal.sh multiClust_1.36.0.tar.gz /Library/Frameworks/R.framework/Resources/bin/R multiClust.buildbin-libdir StartedAt: 2025-01-29 15:39:26 -0500 (Wed, 29 Jan 2025) EndedAt: 2025-01-29 15:39:38 -0500 (Wed, 29 Jan 2025) EllapsedTime: 11.2 seconds RetCode: 0 Status: OK PackageFile: multiClust_1.36.0.tgz PackageFileSize: 3.1 MiB