Package: msmsEDA Version: 1.44.0 Command: /home/biocbuild/R/R/bin/R CMD build --keep-empty-dirs --no-resave-data msmsEDA StartedAt: 2025-01-31 01:10:20 -0000 (Fri, 31 Jan 2025) EndedAt: 2025-01-31 01:11:19 -0000 (Fri, 31 Jan 2025) EllapsedTime: 59.0 seconds RetCode: 0 Status: OK PackageFile: msmsEDA_1.44.0.tar.gz PackageFileSize: 432.9 KiB