Package: msmsEDA Version: 1.44.0 Command: F:\biocbuild\bbs-3.20-bioc\R\bin\R.exe CMD INSTALL msmsEDA StartedAt: 2025-03-31 16:26:10 -0400 (Mon, 31 Mar 2025) EndedAt: 2025-03-31 16:26:55 -0400 (Mon, 31 Mar 2025) EllapsedTime: 45.4 seconds RetCode: 0 Status: OK