Package: msmsEDA Version: 1.44.0 Command: /home/biocbuild/bbs-3.20-bioc/R/bin/R CMD INSTALL msmsEDA StartedAt: 2025-01-27 16:30:17 -0500 (Mon, 27 Jan 2025) EndedAt: 2025-01-27 16:30:58 -0500 (Mon, 27 Jan 2025) EllapsedTime: 40.9 seconds RetCode: 0 Status: OK